BEGIN:VCALENDAR
VERSION:2.0
PRODID:-//SB Bayern 07 e.V. - ECPv6.15.4//NONSGML v1.0//EN
CALSCALE:GREGORIAN
METHOD:PUBLISH
X-ORIGINAL-URL:https://bayern07.de
X-WR-CALDESC:Veranstaltungen für SB Bayern 07 e.V.
REFRESH-INTERVAL;VALUE=DURATION:PT1H
X-Robots-Tag:noindex
X-PUBLISHED-TTL:PT1H
BEGIN:VTIMEZONE
TZID:Europe/Berlin
BEGIN:DAYLIGHT
TZOFFSETFROM:+0100
TZOFFSETTO:+0200
TZNAME:CEST
DTSTART:20230326T010000
END:DAYLIGHT
BEGIN:STANDARD
TZOFFSETFROM:+0200
TZOFFSETTO:+0100
TZNAME:CET
DTSTART:20231029T010000
END:STANDARD
END:VTIMEZONE
BEGIN:VEVENT
DTSTART;TZID=Europe/Berlin:20230205T100000
DTEND;TZID=Europe/Berlin:20230205T150000
DTSTAMP:20260422T025708
CREATED:20230105T121350Z
LAST-MODIFIED:20230105T121350Z
UID:11282-1675591200-1675609200@bayern07.de
SUMMARY:Erster Sonntagsbrunch im Ristorante Bayern 07
DESCRIPTION:Am 05.02.2023  findet der Erste Sonntagsbrunch statt. \nVon da ab gibt es jeden ersten Sonntag im Monat von 09.00 bis 14.00Uhr einen Brunch mit allem was das Frühstücks-Herz begehrt. \nNatürlich mit frischen Rühreiern\, Pancakes\, Wurst\, Käse\, Marmeladen\, Müsli\, Früchten\, Lachs\,… Auch das Glas Prosecco wird dabei sein 🙂 Kaffee inklusive. \nPreis pro Person 18 Euro
URL:https://bayern07.de/event/erster-sonntagsbrunch-im-ristorante-bayern-07/
LOCATION:Ristorante Bayern 07’er\, Am Pulversee 1\, Nürnberg\, 90402\, Deutschland
ATTACH;FMTTYPE=image/jpeg:https://bayern07.de/wp-content/uploads/2023/01/Sonntagsbrunch.jpg
END:VEVENT
BEGIN:VEVENT
DTSTART;TZID=Europe/Berlin:20230219T140000
DTEND;TZID=Europe/Berlin:20230219T173000
DTSTAMP:20260422T025708
CREATED:20230105T121552Z
LAST-MODIFIED:20230105T121552Z
UID:11285-1676815200-1676827800@bayern07.de
SUMMARY:19.02.2023 Kinderfasching im Ristorante Bayern 07
DESCRIPTION:Von 13:00 bis 16:30 findet unser Kinderfaschings-Nachmittag statt. \nMit vielen Spielen\, Musik\, Tanz und Überraschungen. \nEs gibt Krapfen\, Kuchen\, Wienerle und natürlich Pommes. \n  \nEintritt pro Person 8 Euro
URL:https://bayern07.de/event/19-02-2023-kinderfasching-im-ristorante-bayern-07/
LOCATION:Ristorante Bayern 07’er\, Am Pulversee 1\, Nürnberg\, 90402\, Deutschland
ATTACH;FMTTYPE=image/jpeg:https://bayern07.de/wp-content/uploads/2023/01/Kinderfasching.jpg
END:VEVENT
END:VCALENDAR