BEGIN:VCALENDAR
VERSION:2.0
PRODID:-//SB Bayern 07 e.V. - ECPv6.15.4//NONSGML v1.0//EN
CALSCALE:GREGORIAN
METHOD:PUBLISH
X-WR-CALNAME:SB Bayern 07 e.V.
X-ORIGINAL-URL:https://bayern07.de
X-WR-CALDESC:Veranstaltungen für SB Bayern 07 e.V.
REFRESH-INTERVAL;VALUE=DURATION:PT1H
X-Robots-Tag:noindex
X-PUBLISHED-TTL:PT1H
BEGIN:VTIMEZONE
TZID:Europe/Berlin
BEGIN:DAYLIGHT
TZOFFSETFROM:+0100
TZOFFSETTO:+0200
TZNAME:CEST
DTSTART:20230326T010000
END:DAYLIGHT
BEGIN:STANDARD
TZOFFSETFROM:+0200
TZOFFSETTO:+0100
TZNAME:CET
DTSTART:20231029T010000
END:STANDARD
END:VTIMEZONE
BEGIN:VEVENT
DTSTART;TZID=Europe/Berlin:20230114T193000
DTEND;TZID=Europe/Berlin:20230114T220000
DTSTAMP:20260422T064418
CREATED:20230105T114336Z
LAST-MODIFIED:20230105T114336Z
UID:11265-1673724600-1673733600@bayern07.de
SUMMARY:Anna Live on Stage im Ristorante Bayern 07
DESCRIPTION:Die 13- Jährige Anna hat richtig Power in Ihrer Stimme. \nAnna wird ihr erstes eigenes Live Konzert geben. Sie ist im März aus der Ukraine zu uns gekommen und war schon auf einigen unserer Benefiz Events zu Gast. \nAn diesem Abend performt sie internationale und Ukrainische Songs. \nDer Eintritt findet auf Spendenbasis statt (50% gehen an Anna/50% in ein Projekt für die Ukraine). \nBitte Plätze reservieren- wer essen möchte: es gibt natürlich unsere Tageskarte an diesem Abend. \nWir freuen uns auf Euer kommen.
URL:https://bayern07.de/event/anna-live-on-stage-im-ristorante-bayern-07/
LOCATION:Ristorante Bayern 07’er\, Am Pulversee 1\, Nürnberg\, 90402\, Deutschland
ATTACH;FMTTYPE=image/jpeg:https://bayern07.de/wp-content/uploads/2023/01/anna.jpg
END:VEVENT
BEGIN:VEVENT
DTSTART;TZID=Europe/Berlin:20230125T200000
DTEND;TZID=Europe/Berlin:20230125T233000
DTSTAMP:20260422T064418
CREATED:20230105T114646Z
LAST-MODIFIED:20230105T114646Z
UID:11268-1674676800-1674689400@bayern07.de
SUMMARY:Weinseminar im Ristorante Bayern 07
DESCRIPTION:Niklas Balbach\, Sommelier von unserem Partner Römmert aus Volkach an der Mainschleife wird an diesem Tag verschiedene Weine aus dem Weingut vorstellen \nund Wissenswertes über den Weinanbau in Franken berichten. \n6 Weine und Liköre\, dazu ein Antipasti Teller kommen an diesem Abend in die Verköstigung. \nWein und Likör können auf Wunsch an diesem Abend auch mit Lieferung ins Restaurant bestellt werden. \nPro Person 28 Euro \nReservierungen unter: www.07er.de
URL:https://bayern07.de/event/weinseminar-im-ristorante-bayern-07/
LOCATION:Ristorante Bayern 07’er\, Am Pulversee 1\, Nürnberg\, 90402\, Deutschland
ATTACH;FMTTYPE=image/jpeg:https://bayern07.de/wp-content/uploads/2023/01/weinprobe.jpg
END:VEVENT
END:VCALENDAR