BEGIN:VCALENDAR
VERSION:2.0
PRODID:-//SB Bayern 07 e.V. - ECPv6.15.4//NONSGML v1.0//EN
CALSCALE:GREGORIAN
METHOD:PUBLISH
X-WR-CALNAME:SB Bayern 07 e.V.
X-ORIGINAL-URL:https://bayern07.de
X-WR-CALDESC:Veranstaltungen für SB Bayern 07 e.V.
REFRESH-INTERVAL;VALUE=DURATION:PT1H
X-Robots-Tag:noindex
X-PUBLISHED-TTL:PT1H
BEGIN:VTIMEZONE
TZID:Europe/Berlin
BEGIN:DAYLIGHT
TZOFFSETFROM:+0100
TZOFFSETTO:+0200
TZNAME:CEST
DTSTART:20220327T010000
END:DAYLIGHT
BEGIN:STANDARD
TZOFFSETFROM:+0200
TZOFFSETTO:+0100
TZNAME:CET
DTSTART:20221030T010000
END:STANDARD
BEGIN:DAYLIGHT
TZOFFSETFROM:+0100
TZOFFSETTO:+0200
TZNAME:CEST
DTSTART:20230326T010000
END:DAYLIGHT
BEGIN:STANDARD
TZOFFSETFROM:+0200
TZOFFSETTO:+0100
TZNAME:CET
DTSTART:20231029T010000
END:STANDARD
END:VTIMEZONE
BEGIN:VEVENT
DTSTART;TZID=Europe/Berlin:20221203T160000
DTEND;TZID=Europe/Berlin:20221203T170000
DTSTAMP:20260422T104958
CREATED:20221109T133409Z
LAST-MODIFIED:20221109T134108Z
UID:10977-1670083200-1670086800@bayern07.de
SUMMARY:B07 Weihnachtslauf
DESCRIPTION:Gemeinsam laufen wir ca. 4 km um den Wöhrdersee. Mitmachen kann Jeder\, es ist keine Anmeldung erforderlich und die Teilnahme ist kostenfrei. \nStart und Zieleinlauf ist am Bayern 07 Parkplatz. Treffpunkt ist um 14:45 Uhr zur Ausgabe der Startnummern. \nWeihnachtliche Verkleidungen werden gerne gesehen! 🙂
URL:https://bayern07.de/event/b07-weihnachtslauf/
LOCATION:Parkplatz SB Bayern 07 e.V.\, Am Pulversee 1\, Nürnberg\, 90402\, Deutschland
ATTACH;FMTTYPE=image/png:https://bayern07.de/wp-content/uploads/2019/03/Rose-Pink-Orange-Blue-Clinical-Friendly-Fundraising-Donation-Opportunities-Chronic-Illness-Facebook-Post-e1668000840532.png
END:VEVENT
BEGIN:VEVENT
DTSTART;TZID=Europe/Berlin:20221203T180000
DTEND;TZID=Europe/Berlin:20221204T000000
DTSTAMP:20260422T104958
CREATED:20221109T085413Z
LAST-MODIFIED:20221111T135710Z
UID:10940-1670090400-1670112000@bayern07.de
SUMMARY:Weihnachtsmarkt Bayern 07
DESCRIPTION:mit Glühwein\, Bratwürste\, Waffeln\, Live Gesang\, Verkaufsstände und viele Aktionen für Kinder.
URL:https://bayern07.de/event/weihnachtsmarkt-bayern-07/
LOCATION:SB Bayern 07 e.V.\, Am Pulversee 1\, Nürnberg\, 90402\, Deutschland
ATTACH;FMTTYPE=image/png:https://bayern07.de/wp-content/uploads/2022/11/Flyer_Vorderseite-e1668174972554.png
END:VEVENT
BEGIN:VEVENT
DTSTART;TZID=Europe/Berlin:20221203T210000
DTEND;TZID=Europe/Berlin:20221204T003000
DTSTAMP:20260422T104958
CREATED:20221109T160711Z
LAST-MODIFIED:20221109T160711Z
UID:10982-1670101200-1670113800@bayern07.de
SUMMARY:80er Party im Ristorante Bayern 07
DESCRIPTION:im Anschluss an den B07 Weihnachtsmarkt\, findet im Ristorante Bayern 07 eine 80er Party statt. \nTanzmusik mit DJ bei freiem Eintritt. \nEine Reservierung vorab unter www.07er.de ist erfoderlich.
URL:https://bayern07.de/event/80er-party-im-ristorante-bayern-07/
LOCATION:Ristorante Bayern 07’er\, Am Pulversee 1\, Nürnberg\, 90402\, Deutschland
ATTACH;FMTTYPE=image/jpeg:https://bayern07.de/wp-content/uploads/2022/11/pexels-cottonbro-studio-3171837-scaled.jpg
END:VEVENT
BEGIN:VEVENT
DTSTART;TZID=Europe/Berlin:20221204T170000
DTEND;TZID=Europe/Berlin:20221204T180000
DTSTAMP:20260422T104958
CREATED:20221109T161356Z
LAST-MODIFIED:20221109T161356Z
UID:10985-1670173200-1670176800@bayern07.de
SUMMARY:Fackellauf Bayern 07
DESCRIPTION:Wir veranstalten einen Fackellauf für Groß und Klein im Bayern 07 Gelände. \nTreffpunkt und Ausgabe der Fackel (für 2 € pro Stück) ist um 15:45 Uhr im Eingangsbereich des Bayern 07  Geländes.
URL:https://bayern07.de/event/fackellauf-bayern-07/
LOCATION:SB Bayern 07 e.V.\, Am Pulversee 1\, Nürnberg\, 90402\, Deutschland
ATTACH;FMTTYPE=image/jpeg:https://bayern07.de/wp-content/uploads/2022/11/pexels-alfo-medeiros-13169352-scaled-e1668010431295.jpg
END:VEVENT
BEGIN:VEVENT
DTSTART;TZID=Europe/Berlin:20221204T180000
DTEND;TZID=Europe/Berlin:20221205T000000
DTSTAMP:20260422T104958
CREATED:20221109T085535Z
LAST-MODIFIED:20221111T135619Z
UID:10945-1670176800-1670198400@bayern07.de
SUMMARY:Weihnachtsmarkt Bayern 07
DESCRIPTION:mit Glühwein\, Bratwürste\, Waffeln\, Live Gesang\, Verkaufsstände und viele Aktionen für Kinder.
URL:https://bayern07.de/event/weihnachtsmarkt-bayern-07-2/
LOCATION:SB Bayern 07 e.V.\, Am Pulversee 1\, Nürnberg\, 90402\, Deutschland
ATTACH;FMTTYPE=image/png:https://bayern07.de/wp-content/uploads/2022/11/Flyer_Vorderseite-e1668174972554.png
END:VEVENT
BEGIN:VEVENT
DTSTART;TZID=Europe/Berlin:20221226T120000
DTEND;TZID=Europe/Berlin:20221226T150000
DTSTAMP:20260422T104958
CREATED:20221111T135151Z
LAST-MODIFIED:20221111T135151Z
UID:10991-1672056000-1672066800@bayern07.de
SUMMARY:Enten Essen im Ristorante Bayern 07
DESCRIPTION:Ente mit zweierlei Knödel und Blaukraut \n16\,90€ – nur mit Reservierung unter www.07er.de
URL:https://bayern07.de/event/enten-essen-im-ristorante-bayern-07/
LOCATION:Ristorante Bayern 07’er\, Am Pulversee 1\, Nürnberg\, 90402\, Deutschland
ATTACH;FMTTYPE=image/jpeg:https://bayern07.de/wp-content/uploads/2022/11/Enten-Essen-e1668174705123.jpeg
END:VEVENT
BEGIN:VEVENT
DTSTART;TZID=Europe/Berlin:20221231T200000
DTEND;TZID=Europe/Berlin:20230101T003000
DTSTAMP:20260422T104958
CREATED:20221111T135451Z
LAST-MODIFIED:20221111T135854Z
UID:10994-1672516800-1672533000@bayern07.de
SUMMARY:Silvester im Ristorante Bayern 07
DESCRIPTION:An Silvester serviert Euch das Ristorante Bayern 07 ein spannendes italienisches Buffet (zum selbst bedienen :-)) \nGetränke exklusive (Secco zum Anstoßen inklusive) \nAb 22Uhr bis open end gibt es Tanzmusik mit DJ. \nPreis pro Person 35 Euro.
URL:https://bayern07.de/event/silvester-im-ristorante-bayern-07/
LOCATION:Ristorante Bayern 07’er\, Am Pulversee 1\, Nürnberg\, 90402\, Deutschland
ATTACH;FMTTYPE=image/jpeg:https://bayern07.de/wp-content/uploads/2022/11/pexels-cottonbro-studio-3171837-scaled.jpg
END:VEVENT
END:VCALENDAR