BEGIN:VCALENDAR
VERSION:2.0
PRODID:-//SB Bayern 07 e.V. - ECPv6.15.4//NONSGML v1.0//EN
CALSCALE:GREGORIAN
METHOD:PUBLISH
X-WR-CALNAME:SB Bayern 07 e.V.
X-ORIGINAL-URL:https://bayern07.de
X-WR-CALDESC:Veranstaltungen für SB Bayern 07 e.V.
REFRESH-INTERVAL;VALUE=DURATION:PT1H
X-Robots-Tag:noindex
X-PUBLISHED-TTL:PT1H
BEGIN:VTIMEZONE
TZID:Europe/Berlin
BEGIN:DAYLIGHT
TZOFFSETFROM:+0100
TZOFFSETTO:+0200
TZNAME:CEST
DTSTART:20220327T010000
END:DAYLIGHT
BEGIN:STANDARD
TZOFFSETFROM:+0200
TZOFFSETTO:+0100
TZNAME:CET
DTSTART:20221030T010000
END:STANDARD
END:VTIMEZONE
BEGIN:VEVENT
DTSTART;TZID=Europe/Berlin:20221116T193000
DTEND;TZID=Europe/Berlin:20221116T230000
DTSTAMP:20260422T183829
CREATED:20221109T105318Z
LAST-MODIFIED:20221109T105318Z
UID:10947-1668627000-1668639600@bayern07.de
SUMMARY:Außerordentliche Jahreshauptversammlung
DESCRIPTION:Wir laden alle stimmberechtigten Vereinsmitglieder zur Mitgliederversammlung ein. \nDie offizielle Einladung wurde bereits an alle Mitglieder per E-Mail oder postalisch versendet. Sollten hierzu noch Rückfragen bestehen\, meldet Euch gerne bei der Geschäftsstelle unter info@bayern07.de.
URL:https://bayern07.de/event/ausserordentliche-jahreshauptversammlung/
LOCATION:Turnhalle SB Bayern 07 e.V.\, Am Pulversee 1\, Nürnberg\, Bayern\, 90402\, Deutschland
ATTACH;FMTTYPE=image/png:https://bayern07.de/wp-content/uploads/2019/03/4-e1667991190779.png
END:VEVENT
BEGIN:VEVENT
DTSTART;TZID=Europe/Berlin:20221124T180000
DTEND;TZID=Europe/Berlin:20221125T000000
DTSTAMP:20260422T183829
CREATED:20221026T132554Z
LAST-MODIFIED:20221109T105442Z
UID:10882-1669312800-1669334400@bayern07.de
SUMMARY:Ristorante Bayern 07'er - Thanks-Giving-Buffet
DESCRIPTION:Großes Buffet mit Truthahn\, Kürbissuppe\, Süßkartoffelpüree\, Pumpkin Rolls\, \nglasiertem Gemüse\, Apple Pie und mehr. \n25 € pro Person (nur mit Reservierung unter www.07er.de\, 40 Plätze)
URL:https://bayern07.de/event/ristorante-bayern-07er-thanks-giving-buffet/
LOCATION:Ristorante Bayern 07’er\, Am Pulversee 1\, Nürnberg\, 90402\, Deutschland
ATTACH;FMTTYPE=image/jpeg:https://bayern07.de/wp-content/uploads/2022/10/1664871537196-e1666790719727.jpg
END:VEVENT
END:VCALENDAR