BEGIN:VCALENDAR
VERSION:2.0
PRODID:-//SB Bayern 07 e.V. - ECPv6.15.4//NONSGML v1.0//EN
CALSCALE:GREGORIAN
METHOD:PUBLISH
X-WR-CALNAME:SB Bayern 07 e.V.
X-ORIGINAL-URL:https://bayern07.de
X-WR-CALDESC:Veranstaltungen für SB Bayern 07 e.V.
REFRESH-INTERVAL;VALUE=DURATION:PT1H
X-Robots-Tag:noindex
X-PUBLISHED-TTL:PT1H
BEGIN:VTIMEZONE
TZID:Europe/Berlin
BEGIN:DAYLIGHT
TZOFFSETFROM:+0100
TZOFFSETTO:+0200
TZNAME:CEST
DTSTART:20230326T010000
END:DAYLIGHT
BEGIN:STANDARD
TZOFFSETFROM:+0200
TZOFFSETTO:+0100
TZNAME:CET
DTSTART:20231029T010000
END:STANDARD
END:VTIMEZONE
BEGIN:VEVENT
DTSTART;TZID=Europe/Berlin:20230819T130000
DTEND;TZID=Europe/Berlin:20230820T180000
DTSTAMP:20260422T144947
CREATED:20230404T082935Z
LAST-MODIFIED:20230606T130532Z
UID:11743-1692450000-1692554400@bayern07.de
SUMMARY:1. Rollstuhltennis Turnier Bayern 07
DESCRIPTION:Aufgepasst! 😊 \nVom 19.08. – 20.08.2023 findet auf unserer Tennisanlage der Rolli Garros 2023 statt!! \nTragt euch das Event in euren Kalender ein und kommt zu unserem Rollstuhltennis Turnier 🎾👩‍🦽🏆 \nTurnierausschreibung folgt… \nFoto: @komplett_geklaut
URL:https://bayern07.de/event/1-rollstuhltennis-turnier-bayern-07/
LOCATION:Tennisanlage SB Bayern 07 e.V.\, Am Pulversee 1\, Nürnberg\, 90402\, Deutschland
ATTACH;FMTTYPE=image/jpeg:https://bayern07.de/wp-content/uploads/2022/06/MichiMertel-e1686056727525.jpg
END:VEVENT
END:VCALENDAR