BEGIN:VCALENDAR
VERSION:2.0
PRODID:-//SB Bayern 07 e.V. - ECPv6.15.4//NONSGML v1.0//EN
CALSCALE:GREGORIAN
METHOD:PUBLISH
X-ORIGINAL-URL:https://bayern07.de
X-WR-CALDESC:Veranstaltungen für SB Bayern 07 e.V.
REFRESH-INTERVAL;VALUE=DURATION:PT1H
X-Robots-Tag:noindex
X-PUBLISHED-TTL:PT1H
BEGIN:VTIMEZONE
TZID:Europe/Berlin
BEGIN:DAYLIGHT
TZOFFSETFROM:+0100
TZOFFSETTO:+0200
TZNAME:CEST
DTSTART:20230326T010000
END:DAYLIGHT
BEGIN:STANDARD
TZOFFSETFROM:+0200
TZOFFSETTO:+0100
TZNAME:CET
DTSTART:20231029T010000
END:STANDARD
END:VTIMEZONE
BEGIN:VEVENT
DTSTART;VALUE=DATE:20230806
DTEND;VALUE=DATE:20230808
DTSTAMP:20260422T112024
CREATED:20230606T130246Z
LAST-MODIFIED:20230606T130246Z
UID:12736-1691290800-1691377199@bayern07.de
SUMMARY:Swim & Run Bayern 07!
DESCRIPTION:Merkt Euch den Termin schon mal vor\, weitere Infos folgen in Kürze. 🙂
URL:https://bayern07.de/event/swim-run-bayern-07/
ATTACH;FMTTYPE=image/jpeg:https://bayern07.de/wp-content/uploads/2019/03/IMG_8422.jpeg
END:VEVENT
END:VCALENDAR