BEGIN:VCALENDAR
VERSION:2.0
PRODID:-//SB Bayern 07 e.V. - ECPv6.15.4//NONSGML v1.0//EN
CALSCALE:GREGORIAN
METHOD:PUBLISH
X-WR-CALNAME:SB Bayern 07 e.V.
X-ORIGINAL-URL:https://bayern07.de
X-WR-CALDESC:Veranstaltungen für SB Bayern 07 e.V.
REFRESH-INTERVAL;VALUE=DURATION:PT1H
X-Robots-Tag:noindex
X-PUBLISHED-TTL:PT1H
BEGIN:VTIMEZONE
TZID:Europe/Berlin
BEGIN:DAYLIGHT
TZOFFSETFROM:+0100
TZOFFSETTO:+0200
TZNAME:CEST
DTSTART:20230326T010000
END:DAYLIGHT
BEGIN:STANDARD
TZOFFSETFROM:+0200
TZOFFSETTO:+0100
TZNAME:CET
DTSTART:20231029T010000
END:STANDARD
END:VTIMEZONE
BEGIN:VEVENT
DTSTART;TZID=Europe/Berlin:20230708T140000
DTEND;TZID=Europe/Berlin:20230708T180000
DTSTAMP:20260422T110631
CREATED:20230606T125316Z
LAST-MODIFIED:20230606T125801Z
UID:12731-1688824800-1688839200@bayern07.de
SUMMARY:Schwimmen für den Sportabzeichentag im Bayern 07!
DESCRIPTION:Beim diesjährigen Sportabzeichentag findet die Schwimmabnahme im Bayern 07 statt. \nGanz egal ob allein oder mit Familie\, ob mit oder ohne Behinderung. \nWir freuen uns auf Euch! 🙂 \nAlle Infos zum inklusiven Sportabzeichentag findet Ihr unter: Sportabzeichen – SportService Nürnberg (nuernberg.de) \nEuer B07 Team
URL:https://bayern07.de/event/schwimmen-fuer-den-sportabzeichentag-im-bayern-07/
LOCATION:SB Bayern 07 e.V.\, Am Pulversee 1\, Nürnberg\, 90402\, Deutschland
ATTACH;FMTTYPE=image/jpeg:https://bayern07.de/wp-content/uploads/2023/06/Unbenannt.jpg
END:VEVENT
END:VCALENDAR