BEGIN:VCALENDAR
VERSION:2.0
PRODID:-//SB Bayern 07 e.V. - ECPv6.15.4//NONSGML v1.0//EN
CALSCALE:GREGORIAN
METHOD:PUBLISH
X-ORIGINAL-URL:https://bayern07.de
X-WR-CALDESC:Veranstaltungen für SB Bayern 07 e.V.
REFRESH-INTERVAL;VALUE=DURATION:PT1H
X-Robots-Tag:noindex
X-PUBLISHED-TTL:PT1H
BEGIN:VTIMEZONE
TZID:Europe/Berlin
BEGIN:DAYLIGHT
TZOFFSETFROM:+0100
TZOFFSETTO:+0200
TZNAME:CEST
DTSTART:20230326T010000
END:DAYLIGHT
BEGIN:STANDARD
TZOFFSETFROM:+0200
TZOFFSETTO:+0100
TZNAME:CET
DTSTART:20231029T010000
END:STANDARD
END:VTIMEZONE
BEGIN:VEVENT
DTSTART;VALUE=DATE:20230617
DTEND;VALUE=DATE:20230619
DTSTAMP:20260422T073349
CREATED:20230105T120542Z
LAST-MODIFIED:20230105T120542Z
UID:11276-1686970800-1687057199@bayern07.de
SUMMARY:Mammutmarsch 2023 - Start und Zieleinlauf auf dem Bayern 07 Gelände
DESCRIPTION:Der Mammutmarsch ist eine Ultrawanderung mit den Distanzen 30 und 55 km. \nDie Route startet und endet auf unserem Vereinsgelände und führt von dort auf eine lange Reise in und um Nürnberg. Der Mammutmarsch ist kein Wettrennen. Jeder Finisher wird mit Jubelrufen in Empfang genommen und bekommt eine Medaille und ein Finisher Bändchen überreicht. \nAnmelden könnt Ihr euch unter: Mammutmarsch Nürnberg 30/55 KM – Mammutmarsch – 100 KM. 24 Stunden. Zu Fuß. 30 / 55 KM. \n 
URL:https://bayern07.de/event/mammutmarsch-2023-start-und-zieleinlauf-auf-dem-bayern-07-gelaende/
LOCATION:SB Bayern 07 e.V.\, Am Pulversee 1\, Nürnberg\, 90402\, Deutschland
ATTACH;FMTTYPE=image/jpeg:https://bayern07.de/wp-content/uploads/2022/05/Mammutmarsch-1.jpg
END:VEVENT
END:VCALENDAR