BEGIN:VCALENDAR
VERSION:2.0
PRODID:-//SB Bayern 07 e.V. - ECPv6.15.4//NONSGML v1.0//EN
CALSCALE:GREGORIAN
METHOD:PUBLISH
X-ORIGINAL-URL:https://bayern07.de
X-WR-CALDESC:Veranstaltungen für SB Bayern 07 e.V.
REFRESH-INTERVAL;VALUE=DURATION:PT1H
X-Robots-Tag:noindex
X-PUBLISHED-TTL:PT1H
BEGIN:VTIMEZONE
TZID:Europe/Berlin
BEGIN:DAYLIGHT
TZOFFSETFROM:+0100
TZOFFSETTO:+0200
TZNAME:CEST
DTSTART:20230326T010000
END:DAYLIGHT
BEGIN:STANDARD
TZOFFSETFROM:+0200
TZOFFSETTO:+0100
TZNAME:CET
DTSTART:20231029T010000
END:STANDARD
END:VTIMEZONE
BEGIN:VEVENT
DTSTART;TZID=Europe/Berlin:20230513T140000
DTEND;TZID=Europe/Berlin:20230513T180000
DTSTAMP:20260422T032627
CREATED:20230105T121025Z
LAST-MODIFIED:20230419T074501Z
UID:11279-1683986400-1684000800@bayern07.de
SUMMARY:Saisoneröffnung Bayern 07 am 13.05.2023
DESCRIPTION:Tag der offenen Tür im Bayern 07! \nAm Samstag\, 13. Mai von 12:00 – 18:00 Uhr sind ALLE herzlich eingeladen! Bringt eure Familie\, Freunde und Bekannte mit \nund probiert an diesem Tag unser vielfältiges Sportangebot aus – von Beachvolleyball über Crossminton und Tennis bis Roundnet ist für jede und jeden etwas Passendes dabei. \nDer Freibadbesuch ist kostenlos und unser Vereinswirt freut sich darauf euch mit einem kühlen Getränk zu versorgen. 🙂 \n  \nAusweichtermin bei schlechtem Wetter: 20.05.2023
URL:https://bayern07.de/event/saisoneroeffnung-bayern-07-am-13-05-2023/
LOCATION:SB Bayern 07 e.V.\, Am Pulversee 1\, Nürnberg\, 90402\, Deutschland
ATTACH;FMTTYPE=image/jpeg:https://bayern07.de/wp-content/uploads/2019/03/IMG_9730-scaled.jpg
END:VEVENT
END:VCALENDAR