BEGIN:VCALENDAR
VERSION:2.0
PRODID:-//SB Bayern 07 e.V. - ECPv6.15.4//NONSGML v1.0//EN
CALSCALE:GREGORIAN
METHOD:PUBLISH
X-WR-CALNAME:SB Bayern 07 e.V.
X-ORIGINAL-URL:https://bayern07.de
X-WR-CALDESC:Veranstaltungen für SB Bayern 07 e.V.
REFRESH-INTERVAL;VALUE=DURATION:PT1H
X-Robots-Tag:noindex
X-PUBLISHED-TTL:PT1H
BEGIN:VTIMEZONE
TZID:Europe/Berlin
BEGIN:DAYLIGHT
TZOFFSETFROM:+0100
TZOFFSETTO:+0200
TZNAME:CEST
DTSTART:20230326T010000
END:DAYLIGHT
BEGIN:STANDARD
TZOFFSETFROM:+0200
TZOFFSETTO:+0100
TZNAME:CET
DTSTART:20231029T010000
END:STANDARD
END:VTIMEZONE
BEGIN:VEVENT
DTSTART;TZID=Europe/Berlin:20230429T220000
DTEND;TZID=Europe/Berlin:20230429T220000
DTSTAMP:20260421T233454
CREATED:20230427T124650Z
LAST-MODIFIED:20230427T124649Z
UID:11661-1682805600-1682805600@bayern07.de
SUMMARY:What the Funk! - im Ristorante Bayern 07!
DESCRIPTION:Am 29.04.2023  kommen legendäre DJ´s ins Ristorante Bayern 07! 🙂 \nEs MUSS getanzt werden 🙂 \nFunky Music aus den letzten Jahrhunderten\, insbesondere den 70 und 80ern. Los geht´s um 20Uhr mit einer Live-Band Session und ab 21Uhr mit Live-DJ \n-kommt vorher zum Essen zu uns! \nEintritt frei- Spendenbox steht für das DJ Team und Musiker bereit. \nReservierung bitte unter https://www.07er.de/reservierung
URL:https://bayern07.de/event/what-the-funk-im-ristorante-bayern-07/
LOCATION:Ristorante Bayern 07’er\, Am Pulversee 1\, Nürnberg\, 90402\, Deutschland
ATTACH;FMTTYPE=image/jpeg:https://bayern07.de/wp-content/uploads/2023/03/1679399502319.jpg
END:VEVENT
END:VCALENDAR