BEGIN:VCALENDAR
VERSION:2.0
PRODID:-//SB Bayern 07 e.V. - ECPv6.15.4//NONSGML v1.0//EN
CALSCALE:GREGORIAN
METHOD:PUBLISH
X-WR-CALNAME:SB Bayern 07 e.V.
X-ORIGINAL-URL:https://bayern07.de
X-WR-CALDESC:Veranstaltungen für SB Bayern 07 e.V.
REFRESH-INTERVAL;VALUE=DURATION:PT1H
X-Robots-Tag:noindex
X-PUBLISHED-TTL:PT1H
BEGIN:VTIMEZONE
TZID:Europe/Berlin
BEGIN:DAYLIGHT
TZOFFSETFROM:+0100
TZOFFSETTO:+0200
TZNAME:CEST
DTSTART:20220327T010000
END:DAYLIGHT
BEGIN:STANDARD
TZOFFSETFROM:+0200
TZOFFSETTO:+0100
TZNAME:CET
DTSTART:20221030T010000
END:STANDARD
END:VTIMEZONE
BEGIN:VEVENT
DTSTART;TZID=Europe/Berlin:20221226T120000
DTEND;TZID=Europe/Berlin:20221226T150000
DTSTAMP:20260422T102258
CREATED:20221111T135151Z
LAST-MODIFIED:20221111T135151Z
UID:10991-1672056000-1672066800@bayern07.de
SUMMARY:Enten Essen im Ristorante Bayern 07
DESCRIPTION:Ente mit zweierlei Knödel und Blaukraut \n16\,90€ – nur mit Reservierung unter www.07er.de
URL:https://bayern07.de/event/enten-essen-im-ristorante-bayern-07/
LOCATION:Ristorante Bayern 07’er\, Am Pulversee 1\, Nürnberg\, 90402\, Deutschland
ATTACH;FMTTYPE=image/jpeg:https://bayern07.de/wp-content/uploads/2022/11/Enten-Essen-e1668174705123.jpeg
END:VEVENT
END:VCALENDAR