BEGIN:VCALENDAR
VERSION:2.0
PRODID:-//SB Bayern 07 e.V. - ECPv6.15.4//NONSGML v1.0//EN
CALSCALE:GREGORIAN
METHOD:PUBLISH
X-ORIGINAL-URL:https://bayern07.de
X-WR-CALDESC:Veranstaltungen für SB Bayern 07 e.V.
REFRESH-INTERVAL;VALUE=DURATION:PT1H
X-Robots-Tag:noindex
X-PUBLISHED-TTL:PT1H
BEGIN:VTIMEZONE
TZID:Europe/Berlin
BEGIN:DAYLIGHT
TZOFFSETFROM:+0100
TZOFFSETTO:+0200
TZNAME:CEST
DTSTART:20220327T010000
END:DAYLIGHT
BEGIN:STANDARD
TZOFFSETFROM:+0200
TZOFFSETTO:+0100
TZNAME:CET
DTSTART:20221030T010000
END:STANDARD
END:VTIMEZONE
BEGIN:VEVENT
DTSTART;TZID=Europe/Berlin:20220724T120000
DTEND;TZID=Europe/Berlin:20220724T200000
DTSTAMP:20260423T100832
CREATED:20220704T085813Z
LAST-MODIFIED:20220713T130240Z
UID:9925-1658664000-1658692800@bayern07.de
SUMMARY:ebf Beachvolleyballturnier Mixed (expert)
DESCRIPTION:Beachvolleyball Turnier “ebf Serie” \nWährend des Turniers sind alle Felder für das Turnier reserviert und können nicht von Mitgliedern oder Badegästen genutzt werden. \n\nWir bitten um Ihr Verständnis. \nTurnierbeginn ab 10:00 Uhr. Zuschauer Herzlich Willkommen. 🙂
URL:https://bayern07.de/event/ebf-beachvolleyballturnier-mixed-expert/
LOCATION:Beachvolleyball Felder SB Bayern 07 e.V.\, Am Pulversee 1\, Nürnberg\, 90402\, Deutschland
ATTACH;FMTTYPE=image/jpeg:https://bayern07.de/wp-content/uploads/2022/07/B07-0278-scaled.jpg
END:VEVENT
END:VCALENDAR